BEGIN:VCALENDAR
VERSION:2.0
METHOD:PUBLISH
PRODID:-//Virginia Tech//VT Calendar//EN
BEGIN:VEVENT
DTSTAMP:20160207T230000Z
UID:1454388848716@events.msu.edu
CATEGORIES:Performing Arts (Dance, Music, Theatre,  ...)
DTSTART:20160207T230000Z
DTEND:20160208T045900Z
SUMMARY:Theatre2Film
DESCRIPTION:
 Join us for the MSU Department of Theatre's Fifth 
 Annual Theatre Film Festival featuring a 
 short film created in THR404 - Topics in Acting 
 and Directing III. Directed by MSU faculty 
 member Mark Colson, students have developed 
 a show that will be viewed first as a theatrical 
 piece and later as a film. The performance 
 explores both the &quot;theatrical&quot; and 
 &quot;cinematic&quot; while allowing the audience 
 to witness a unique set of events.\n\n
 Price: Free and open to the public\n
 Sponsor: public\n
 Contact name: Sarah Winterbottom\n
 Contact email: winterb9@msu.edu\n
LOCATION:Broad MSU
END:VEVENT
END:VCALENDAR
