BEGIN:VCALENDAR
VERSION:2.0
METHOD:PUBLISH
PRODID:-//Virginia Tech//VT Calendar//EN
BEGIN:VEVENT
DTSTAMP:20160214T190000Z
UID:1454389222235@events.msu.edu
CATEGORIES:Performing Arts (Dance, Music, Theatre,  ...)
DTSTART:20160214T190000Z
DTEND:20160215T045900Z
SUMMARY:New in Student Performance
DESCRIPTION:
 Join Humanities Pre-law major Jamayl Martin as 
 he reads original spoken word poetry. His poems 
 illuminate first-encounters with issues of 
 race, gender, and identity conflict. This monthly 
 series features MSU students as the Education 
 Wing becomes a laboratory to develop 
 and showcase their creative research.\n\n
 Price: Free and open to the public\n
 Sponsor: public\n
 Contact name: Sarah Winterbottom\n
 Contact email: winterb9@msu.edu\n
LOCATION:Alan and Rebecca Ross Education Wing
END:VEVENT
END:VCALENDAR
