BEGIN:VCALENDAR
VERSION:2.0
METHOD:PUBLISH
PRODID:-//Virginia Tech//VT Calendar//EN
BEGIN:VEVENT
DTSTAMP:20160319T050000Z
UID:1456846788150@events.msu.edu
CATEGORIES:Special Events
DTSTART;VALUE=DATE:20160319
DTEND;VALUE=DATE:20160320
SUMMARY:Last Spartan Standing (feat. Ryan Conner)
DESCRIPTION:
 Come and watch fellow Spartans compete for the 
 title of "Last Spartan Standing." Also welcome 
 comedian Ryan Conner who will both host and 
 perform his stand up routine! Known for his 
 appearance on NBC's remake of Last Comic Standing, 
 Conner now tours and performs stand up 
 all across the country. Snacks will be available 
 while supplies last. Free for all MSU students, 
 plus one guest. All must show ID.\n\n
 Price: FREE\n
 Sponsor: UAB\n
 Sponsor's Homepage: http://www.uabevents.com\n
 Contact name: University Activities Board\n
 Contact phone: 355-3354\n
 Contact email: uab@rhs.msu.edu\n
 for more info visit the web at:\n 
 http://uabevents.com\n
LOCATION:MSU Union, First Floor, Main Lounge
END:VEVENT
END:VCALENDAR
