BEGIN:VCALENDAR
VERSION:2.0
METHOD:PUBLISH
PRODID:-//Virginia Tech//VT Calendar//EN
BEGIN:VEVENT
DTSTAMP:20160503T160000Z
UID:1459530301244@events.msu.edu
CATEGORIES:Student Events
DTSTART:20160503T160000Z
DTEND:20160503T180000Z
SUMMARY:Finals Survival Week: Baby Goats!
DESCRIPTION:
 Take a break from finals to hang out with some 
 therapy goats!\n
 \n
 Finals Survival Week events 
 are generously supported by MSUFCU.\n\n
 Price: free\n
 Sponsor: Administration\n
 Sponsor's Homepage: http://www.lib.msu.edu\n
 Contact name: Holly Flynn\n
 Contact phone: 517-353-8700\n
 Contact email: flynnhol@msu.edu\n
LOCATION:Main Library Patio
END:VEVENT
END:VCALENDAR
