BEGIN:VCALENDAR
VERSION:2.0
METHOD:PUBLISH
PRODID:-//Virginia Tech//VT Calendar//EN
BEGIN:VEVENT
DTSTAMP:20160422T140000Z
UID:1460549030470@events.msu.edu
CATEGORIES:Conferences / Seminars / Lectures
DTSTART:20160422T140000Z
DTEND:20160422T200000Z
SUMMARY:PhotosynQ Workshop
DESCRIPTION:
 In 3 short years, PhotosynQ went from a small 
 project in David Kramer's lab to a global network 
 of researchers with a diverse set of skills 
 and goals. In this workshop, collaborators 
 will share their results and experiences, we 
 will discuss how the PhotosynQ platform and 
 technologies (MultispeQ and related devices) 
 can be used as educational tools, can be modified 
 to address other important research needs, 
 and provide guidance on how to use PhotosynQ 
 to collect high quality photosynthesis data.\n
 \n
 To 
 register, visit: https://www.eventbrite.com/e/photosynq-workshop-tickets-23938511733?aff=es2\n\n
 Price: free, registration required\n
 Sponsor: PhotosynQ and MSU AgBioResearch\n
 Sponsor's Homepage: https://www.eventbrite.com/e/photosynq-workshop-tickets-23938511733?aff=es2\n
 Contact name: Dan TerAvest\n
 Contact email: teravestdan@gmail.com\n
 for more info visit the web at:\n 
 https://www.eventbrite.com/e/photosynq-workshop-tickets-23938511733?aff=es2\n
LOCATION:MPS Building, 1066 Bogue St.
END:VEVENT
END:VCALENDAR
