BEGIN:VCALENDAR
VERSION:2.0
METHOD:PUBLISH
PRODID:-//Virginia Tech//VT Calendar//EN
BEGIN:VEVENT
DTSTAMP:20160611T000000Z
UID:1462852805114@events.msu.edu
CATEGORIES:Performing Arts (Dance, Music, Theatre,  ...)
DTSTART:20160611T000000Z
DTEND:20160611T020000Z
SUMMARY:A Grand Night For Singing
DESCRIPTION:
 Rodgers and Hammerstein's\n
 A Grand Night For Singing\n
 \n
 Music 
 by Richard Rodgers\n
 Lyrics by 
 Oscar Hammerstein II\n
 Music Arrangements by 
 Fred Wells\n
 Orchestration by Michael Gibson and 
 Jonathan Tunick\n
 Conceived by Walter Bobbie\n
 Originally 
 produced by Roundabout Theatre 
 Company, New York City, in 1993.\n
 Direction and 
 Choreography by Brad Willcuts\n
 Musical Direction 
 by Dave Wendelberger\n
 \n
 Wednesday, June 
 8, 2016 - 8:00p.m.\n
 Thursday, June 9, 2016 
 - 8:00p.m.\n
 Friday, June 10, 2016 - 8:00p.m.\n
 Saturday, 
 June 11, 2016 - 8:00p.m.\n
 \n
 (For the 
 whole family)\n
 \n
 Some of musical theatre's 
 most recognizable songs are included in this 
 elegant musical revue\n
 This musical revue feature 
 the music of musical theatre's most celebrated 
 partnership-- Rodgers and Hammerstein. 
 Songs from all of their hits like Oklahoma!, 
 Carousel, The King and I, The Sound of Music, 
 and many more are featured in this elegant 
 evening of moving lyrics and memorable melodies. 
 Bring the entire family to this magical 
 musical revue.\n
  \n
 All performances are FREE 
 to the public.\n
 \n\n
 Price: FREE\n
 Sponsor: Department of Theatre\n
 Sponsor's Homepage: http://theatre.msu.edu/\n
 for more info visit the web at:\n 
 http://www.theatre.msu.edu/grand-night-singing\n
LOCATION:Summer Circle Courtyard
END:VEVENT
END:VCALENDAR
