BEGIN:VCALENDAR
VERSION:2.0
METHOD:PUBLISH
PRODID:-//Virginia Tech//VT Calendar//EN
BEGIN:VEVENT
DTSTAMP:20160616T000000Z
UID:1462853361700@events.msu.edu
CATEGORIES:Performing Arts (Dance, Music, Theatre,  ...)
DTSTART:20160616T000000Z
DTEND:20160616T020000Z
SUMMARY:The Groundling
DESCRIPTION:
 by Marc Palmieri\n
 Direction by Rob Roznowski\n
 \n
 Wednesday, June 15, 2016 - 8:00p.m.\n
 Thursday, 
 June 16, 2016 - 8:00p.m.\n
 Friday, June 17, 
 2016 - 8:00p.m.\n
 Saturday, June 18, 2016 - 
 8:00p.m.\n
 \n
 (Ages 12 and up)\n
 \n
 A first-time 
 playwright tries to write a new Shakespeare show 
 in this touching comedy.\n
 After stumbling 
 upon an outdoor production of a Shakespeare 
 play in Manhattan, Long Island landscaper Bob 
 Malone returns home inspired to write a play 
 about his troubled marriage. He hires two reluctant 
 New York theatre professionals to spend 
 a week at his home and stage the play in his 
 garage, with a cast of colorful locals. THE 
 GROUNDLING is a comedy exploring the meaning 
 of the final moments of Shakespeare's Love's 
 Labour's Lost, and how the power of theatre 
 can affect the most unsuspecting, and perhaps 
 most deserving, of us all.\n
 \n
 Contains profanity.\n
  
 \n
 All performances are FREE to the public.\n\n
 Price: FREE\n
 Sponsor: Department of Theatre\n
 Sponsor's Homepage: http://theatre.msu.edu/\n
 for more info visit the web at:\n 
 http://www.theatre.msu.edu/groundling\n
LOCATION:Summer Circle Courtyard
END:VEVENT
END:VCALENDAR
