BEGIN:VCALENDAR
VERSION:2.0
METHOD:PUBLISH
PRODID:-//Virginia Tech//VT Calendar//EN
BEGIN:VEVENT
DTSTAMP:20160623T000000Z
UID:1462853559140@events.msu.edu
CATEGORIES:Performing Arts (Dance, Music, Theatre,  ...)
DTSTART:20160623T000000Z
DTEND:20160623T020000Z
SUMMARY:Fallen Angels
DESCRIPTION:
 By Noël Coward\n
 Direction by Ann Folino White\n
 \n
 Wednesday, 
 June 22, 2016 - 8:00p.m.\n
 Thursday, 
 June 23, 2016 - 8:00p.m.\n
 Friday, June 24, 
 2016 - 8:00p.m.\n
 Saturday, June 25, 2016 - 
 8:00p.m.\n
 \n
 Noël Coward's wit and wordplay are 
 on display in this comedic gem.\n
 \n
 (Ages 8 
 and up)\n
 \n
 Best friends now happily married 
 to others, Julia and Jane both once counted the 
 dashing Frenchman Maurice as their lover. 
 Guess who's back in town and requesting the pleasure 
 of the ladies company? Coward at his 
 inimitable best, the story is a champagne cocktail 
 of wit and charm.\n
 \n
 All performances are 
 FREE to the public.\n\n
 Price: FREE\n
 Sponsor: Department of Theatre\n
 Sponsor's Homepage: http://theatre.msu.edu/\n
 for more info visit the web at:\n 
 http://www.theatre.msu.edu/fallen-angels\n
LOCATION:Summer Circle Courtyard
END:VEVENT
END:VCALENDAR
