BEGIN:VCALENDAR
VERSION:2.0
METHOD:PUBLISH
PRODID:-//Virginia Tech//VT Calendar//EN
BEGIN:VEVENT
DTSTAMP:20160519T190000Z
UID:1463513170521@events.msu.edu
CATEGORIES:Athletics
DTSTART:20160519T190000Z
DTEND:20160520T035900Z
SUMMARY:Baseball vs. Maryland
DESCRIPTION:
  Price: free\n
 Sponsor: MSU Athletics\n
 Sponsor's Homepage: http://events.msu.edu/\n
 for more info visit the web at:\n 
 http://www.msuspartans.com/\n
LOCATION:McLane Baseball Stadium
END:VEVENT
END:VCALENDAR
