BEGIN:VCALENDAR
VERSION:2.0
METHOD:PUBLISH
PRODID:-//Virginia Tech//VT Calendar//EN
BEGIN:VEVENT
DTSTAMP:20160521T050000Z
UID:1463513371956@events.msu.edu
CATEGORIES:Athletics
DTSTART:20160521T050000Z
DTEND:20160522T035900Z
SUMMARY:Baseball vs. Maryland
DESCRIPTION:
 Senior Day, Miracle League Day, Little League 
 Day, kids run the bases post-game!\n\n
 Price: students: free, public $3/$5\n
 Sponsor: Athletics\n
 Sponsor's Homepage: http://msuspartans.com\n
 for more info visit the web at:\n 
 http://www.msuspartans.com/\n
LOCATION:McLane Baseball Stadium
END:VEVENT
END:VCALENDAR
