BEGIN:VCALENDAR
VERSION:2.0
METHOD:PUBLISH
PRODID:-//Virginia Tech//VT Calendar//EN
BEGIN:VEVENT
DTSTAMP:20160706T160000Z
UID:1466368723938@events.msu.edu
CATEGORIES:Student Events
DTSTART:20160706T160000Z
DTEND:20160706T170000Z
SUMMARY:SOMA-APSA Student Research Spotlight Series
DESCRIPTION:
 Student Osteopathic Medical Association (SOMA) 
 and American Physician Scientists Association 
 (APSA) Present Research Talk on MSUCOM Student's 
 research. \n\n
 Price:  free\n
 Sponsor: SOMA\n
 Contact name: Tanya Odisho\n
 Contact phone: (517) 862-7213\n
 Contact email: odishota@msu.edu\n
LOCATION:EL E105, DMC G029, MUC TBA
END:VEVENT
END:VCALENDAR
