BEGIN:VCALENDAR
VERSION:2.0
METHOD:PUBLISH
PRODID:-//Virginia Tech//VT Calendar//EN
BEGIN:VEVENT
DTSTAMP:20160904T150000Z
UID:1467384917060@events.msu.edu
CATEGORIES:Athletics
DTSTART:20160904T150000Z
DTEND:20160905T035900Z
SUMMARY:MSU Field Hockey vs. Quinnipiac
DESCRIPTION:
  Sponsor: Athletics\n
 Sponsor's Homepage: http://msuspartans.com\n
 for more info visit the web at:\n 
 http://www.msuspartans.com/sports/w-fieldh/sched/msu-w-fieldh-sched.html\n
LOCATION:Ralph Young Field
END:VEVENT
END:VCALENDAR
