BEGIN:VCALENDAR
VERSION:2.0
METHOD:PUBLISH
PRODID:-//Virginia Tech//VT Calendar//EN
BEGIN:VEVENT
DTSTAMP:20160809T133000Z
UID:1470404461879@events.msu.edu
CATEGORIES:Conferences / Seminars / Lectures
DTSTART:20160809T133000Z
DTEND:20160810T035900Z
SUMMARY:ESPP Speaker Series
DESCRIPTION:
 C. Emi Fergus, doctoral candidate, from Department 
 of Fisheries & Wildlife is presenting on 
 'Using a landscape limnology framework to examine 
 lake nutrients and productivity at macroscales'. 
 \n\n
 Price: free\n
 Sponsor: Fisheries And Wildlife\n
 Sponsor's Homepage: http://www.espp.msu.edu/\n
 Contact name: Dr. Patricia Soranno\n
 Contact phone: 517-432-4330\n
 Contact email: soranno@msu.edu\n
 for more info visit the web at:\n 
 http://www.espp.msu.edu/events/calendar/index.php\n
LOCATION:338 Natural Resources Building
END:VEVENT
END:VCALENDAR
