BEGIN:VCALENDAR
VERSION:2.0
METHOD:PUBLISH
PRODID:-//Virginia Tech//VT Calendar//EN
BEGIN:VEVENT
DTSTAMP:20160913T230000Z
UID:1471306023380@events.msu.edu
CATEGORIES:Exhibits (Museum, Gardens, ...)
DTSTART:20160913T230000Z
DTEND:20160914T000000Z
SUMMARY:Artist Talk: Sam Jury
DESCRIPTION:
 Join artist Sam Jury as she talks about her latest 
 work and recent installation, To Be Here, 
 on view at the Broad MSU through November 27. 
 This video and sound installation focuses 
 on Sahrawi refugees living in the Boujdour Camp 
 near Tindouf, Algeria. Presented in collaboration 
 with the City of East Lansing and MSU's 
 One Book, One Community under this year's 
 theme, Faces of Migration: The Human Experience. 
 The lecture is also planned in conjunction 
 with MSU's Art, Art History, and Design Guest 
 Lecture Series.\n\n
 Price: free\n
 Sponsor: public\n
 Contact name: Broad MSU\n
 Contact phone: (517) 884-4800\n
 Contact email: eebam@msu.edu\n
 for more info visit the web at:\n 
 http://broadmuseum.msu.edu\n
LOCATION:Eli and Edythe Broad Art Museum at Michigan State University
END:VEVENT
END:VCALENDAR
