BEGIN:VCALENDAR
VERSION:2.0
METHOD:PUBLISH
PRODID:-//Virginia Tech//VT Calendar//EN
BEGIN:VEVENT
DTSTAMP:20160909T163000Z
UID:1471461262795@events.msu.edu
CATEGORIES:Conferences / Seminars / Lectures
DTSTART:20160909T163000Z
DTEND:20160909T173000Z
SUMMARY:Neuroscience Seminar
DESCRIPTION:
 Speaker: Dr. Monica Uddin\n
 University of Illinois\n
 Champaign, 
 IL\n
 Title: Transcriptional and 
 epigenetic regulation of traumatic stress in 
 a community-based cohort\n
 Host: Dr. Cynthia 
 Jordan\n\n
 Price: free\n
 Sponsor: Neuroscience Program\n
 Sponsor's Homepage: https://neuroscience.natsci.msu.edu/\n
 Contact name: Neuroscience Program\n
 Contact phone: (517) 353-8947\n
 Contact email: neurosci@msu.edu \n
 for more info visit the web at:\n 
 https://neuroscience.natsci.msu.edu/program-events/calendar/\n
LOCATION:1425 Biomedical & Physical Science Bldg.
END:VEVENT
END:VCALENDAR
