BEGIN:VCALENDAR
VERSION:2.0
METHOD:PUBLISH
PRODID:-//Virginia Tech//VT Calendar//EN
BEGIN:VEVENT
DTSTAMP:20161113T050000Z
UID:1471523546699-0002@events.msu.edu
CATEGORIES:Conferences / Seminars / Lectures
DTSTART;VALUE=DATE:20161113
DTEND;VALUE=DATE:20161114
SUMMARY:Society for Neuroscience Annual Meeting
DESCRIPTION:
 Plan to Attend Neuroscience 2016\n
 \n
 SfN's 46th 
 annual meeting is the premier venue for neuroscientists 
 to present emerging science, learn 
 from experts, collaborate with peers, explore 
 new tools and technologies, and advance careers.\n
 \n
 Neuroscience 
 2016 will take place November 
 12-16 at the San Diego Convention Center. 
 Join more than 30,000 colleagues from more 
 than 80 countries at the world's largest marketplace 
 of ideas and tools for global neuroscience.\n\n
 Sponsor: Neuroscience Program\n
 Sponsor's Homepage: https://neuroscience.natsci.msu.edu/\n
 Contact name: Neuroscience Program\n
 Contact phone: (517) 353-8947\n
 Contact email: neurosci@msu.edu \n
 for more info visit the web at:\n 
 https://neuroscience.natsci.msu.edu/program-events/calendar/society-for-neuroscience-annual-meeting/\n
END:VEVENT
END:VCALENDAR
