BEGIN:VCALENDAR
VERSION:2.0
METHOD:PUBLISH
PRODID:-//Virginia Tech//VT Calendar//EN
BEGIN:VEVENT
DTSTAMP:20161106T200000Z
UID:1471523759903@events.msu.edu
CATEGORIES:Performing Arts (Dance, Music, Theatre,  ...)
DTSTART:20161106T200000Z
DTEND:20161107T045900Z
SUMMARY:Trombone Choir
DESCRIPTION:
  Price: free\n
 Sponsor: College of Music\n
 Sponsor's Homepage: http://www.music.msu.edu\n
 for more info visit the web at:\n 
 http://music.msu.edu/event-listing\n
LOCATION:Fairchild Theatre, MSU Auditorium
END:VEVENT
END:VCALENDAR
