BEGIN:VCALENDAR
VERSION:2.0
METHOD:PUBLISH
PRODID:-//Virginia Tech//VT Calendar//EN
BEGIN:VEVENT
DTSTAMP:20161020T190000Z
UID:1472761634108@events.msu.edu
CATEGORIES:Conferences / Seminars / Lectures
DTSTART:20161020T190000Z
DTEND:20161020T210000Z
SUMMARY:Global Engagement Speaker Series
DESCRIPTION:
 Dr. Rajesh Tandon, internationally acclaimed leader 
 of participatory research and development, 
 on the role of higher education in building 
 knowledge societies. Dr.Tandon is the Founder 
 and President of Participatory Research in 
 Asia, India and the Co-Chair with the UNESCO 
 Community Based Research and Social Responsibility 
 in Higher Education.\n\n
 Price: free\n
 Sponsor: University Outreach and Engagement, and, International 
 Studies and Programs\n
 Sponsor's Homepage: http://engage.msu.edu/\n
 Contact name: Julie Crowgey\n
 Contact phone: (517) 353-8977\n
 Contact email: crowgeyj@msu.edu\n
 for more info visit the web at:\n 
 http://gess.msu.edu/Speaker/RajeshTandon\n
LOCATION:Kellogg Center
END:VEVENT
END:VCALENDAR
