BEGIN:VCALENDAR
VERSION:2.0
METHOD:PUBLISH
PRODID:-//Virginia Tech//VT Calendar//EN
BEGIN:VEVENT
DTSTAMP:20160910T170000Z
UID:1473189637285@events.msu.edu
CATEGORIES:Special Events
DTSTART:20160910T170000Z
DTEND:20160910T190000Z
SUMMARY:Evergreen Haiku Study Group
DESCRIPTION:
 with Michele Root-Bernstein\n\n
 Price: free\n
 Sponsor: Administration\n
 Sponsor's Homepage: http://poetry.rcah.msu.edu/\n
 Contact name: Laurie Hollinger\n
 Contact phone: 5178841932\n
 Contact email: cpoetry@msu.edu\n
LOCATION:Snyder Hall C301
END:VEVENT
END:VCALENDAR
