BEGIN:VCALENDAR
VERSION:2.0
METHOD:PUBLISH
PRODID:-//Virginia Tech//VT Calendar//EN
BEGIN:VEVENT
DTSTAMP:20160908T220000Z
UID:1473194118233@events.msu.edu
CATEGORIES:Student Events
DTSTART:20160908T220000Z
DTEND:20160909T010000Z
SUMMARY:Spartan Remix
DESCRIPTION:
 What is Spartan Remix?\n
 The annual Spartan Remix 
 cultural celebration takes place on the Thursday 
 after labor day at MSU's Auditorium Field. 
 Spartan Remix is an event (unlike its kind) 
 where diverse communities from CORES (Council 
 of Racial and Ethnic Students) and various 
 COPS (Council of Progressive Students) organizations 
 come together in celebration and education 
 of their communities with the larger 
 MSU community. CORES is made up of BSA (Black 
 Student Alliance), APASO (Asian Pacific American 
 Student Organization), NAISO (North American 
 Indigenous Student Organization) and CRU 
 (Culturas de las Razas Unidas) and representing 
 COPS are the Coalition of LBGT (Lesbian, 
 Bi-sexual, Gay and Transgender) Students and 
 ISA (International Student Association). For 
 more information, contact OCAT (ocat@msu.edu).\n\n
 Price: free\n
 Sponsor: Office of Cultural & Academic Transitions (OCAT) 
 and Mosaic Multicultural Unity Center\n
 Sponsor's Homepage: http://ocat.msu.edu/\n
 Contact phone: (517) 353-7745\n
 Contact email: mosaicmsu@gmail.com\n
 for more info visit the web at:\n 
 http://ocat.msu.edu/contact-us/spartan-remix/\n
LOCATION:MSU's Auditorium Field at the Rock
END:VEVENT
END:VCALENDAR
