BEGIN:VCALENDAR
VERSION:2.0
METHOD:PUBLISH
PRODID:-//Virginia Tech//VT Calendar//EN
BEGIN:VEVENT
DTSTAMP:20160927T230000Z
UID:1473361487716@events.msu.edu
CATEGORIES:Conferences / Seminars / Lectures
DTSTART:20160927T230000Z
DTEND:20160928T003000Z
SUMMARY:Sharper Focus/Wider Lens Forum
DESCRIPTION:
 In Brave New Workplace: The Next Careers? the 
 Sharper Focus/Wider Lens faculty panel will explore 
 the emerging field of neuroscience, how 
 supercomputers are changing the day, the perspective 
 of an entrepreneur, the world of media 
 infographics and how employees hold themselves 
 accountable at work.\n
 \n
 Featuring audience 
 Q&A and TED-style talks by the following 
 MSU faculty:\n
 \n
 Kenneth Merz, Ph.D., Professor, 
 Department of Chemistry and Director, Institute 
 for Cyber-Enabled Research\n
 Cheryl Sisk, 
 Ph.D., Professor, Neuroscience Program\n
 Karl 
 Gude, Director, Media Sandbox in the College 
 of Communication Arts and Sciences\n
 Kenneth 
 Szymusiak, Director, Burgess Institute for Entrepreneurship 
 and Innovation in the Eli Broad 
 College of Business\n
 Angela Hall, J.D., Ph.D., 
 Assistant Professor, School of Human Resources 
 and Labor Relations\n
 \n
 Moderated by John 
 Beck, Associate Professor, School of Human 
 Resources and Labor Relations and Honors Professor 
 for Sharper Focus/Wider Lens.\n
 \n
 More 
 information about the Sharper Focus/Wider Lens 
 series, sponsored by the Honors College, is 
 available at honorscollege.msu.edu/sharper-focuswider-lens. 
 Brave New Workplace: The Next 
 Careers? is also An MSU Libraries Colloquia 
 Series Event.\n
 \n
 For parking information, please 
 visit http://maps.msu.edu/interactive. The 
 Main Library is wheelchair accessible via the 
 South entrance. Persons with disabilities 
 may request accommodations by calling Lisa Denison 
 at 517.884.6454 one week before an event. 
 Requests received after that time will be 
 met when possible.\n
 \n
 This event will also be 
 livestreamed courtesy of the MSU Alumni Association 
 http://livestream.com/msualumni.important 
 issues or questions in a trans-disciplinary 
 format. The faculty panel brings their unique 
 research, teaching and writing experiences 
 from a wide range of disciplines to explore 
 contemporary and historical issues. All forums 
 are free and open to the public and refreshments 
 are provided. \n\n
 Price: free\n
 Sponsor: Honors College\n
 Sponsor's Homepage: http://honorscollege.msu.edu/\n
 Contact name: Honors College\n
 Contact phone: 517-355-2326\n
 Contact email: honors@msu.edu\n
 for more info visit the web at:\n 
 http://honorscollege.msu.edu/sharper-focuswider-lens\n
LOCATION:MSU Main Library Green Room
END:VEVENT
END:VCALENDAR
