BEGIN:VCALENDAR
VERSION:2.0
METHOD:PUBLISH
PRODID:-//Virginia Tech//VT Calendar//EN
BEGIN:VEVENT
DTSTAMP:20161103T150000Z
UID:1473449054504@events.msu.edu
CATEGORIES:Conferences / Seminars / Lectures
DTSTART:20161103T150000Z
DTEND:20161104T035900Z
SUMMARY:Biochemistry & Molecular Biology Colloquium Series
DESCRIPTION:
 FALL 2016 Colloquium Series  \n
 Thursdays 11:00am, 
 101 Biochemistry\n
 \n
 Speaker name: Eva-Mari 
 Aro\n
 University: Univ. of Turku, Finland\n
 \n\n
 Price: Free\n
 Sponsor: Biochemistry & Molecular Biology\n
 Sponsor's Homepage: https://bmb.natsci.msu.edu\n
 Contact name: Zachary F. Burton\n
 Contact phone: 517-353-0859\n
 Contact email: burton@msu.edu\n
 for more info visit the web at:\n 
 https://bmb.natsci.msu.edu/news-events/seminars/bmb-colloquium-series/\n
LOCATION:101 Biochemistry
END:VEVENT
END:VCALENDAR
