BEGIN:VCALENDAR
VERSION:2.0
METHOD:PUBLISH
PRODID:-//Virginia Tech//VT Calendar//EN
BEGIN:VEVENT
DTSTAMP:20160928T213000Z
UID:1474295694065@events.msu.edu
CATEGORIES:Conferences / Seminars / Lectures
DTSTART:20160928T213000Z
DTEND:20160929T035900Z
SUMMARY:Jason Riley Lecture Titled The State Against Blacks
DESCRIPTION:
 The LeFrak Forum and Symposium on Science, Reason, 
 &amp; Modern Democracy in the Department 
 of Political Science presents Jason Riley, Senior 
 Fellow at the Manhattan Institute and columnist 
 for the Wall Street Journal.  \n\n
 Price: free\n
 Sponsor: public\n
 Contact name: Kim Neir\n
 Contact phone: 517-355-6590\n
 Contact email: neirkimj@msu.edu\n
 for more info visit the web at:\n 
 http://lefrakforum.msu.edu\n
LOCATION:Kellogg Center Auditorium
END:VEVENT
END:VCALENDAR
