BEGIN:VCALENDAR
VERSION:2.0
METHOD:PUBLISH
PRODID:-//Virginia Tech//VT Calendar//EN
BEGIN:VEVENT
DTSTAMP:20161027T210000Z
UID:1475346498246@events.msu.edu
CATEGORIES:Special Events
DTSTART:20161027T210000Z
DTEND:20161028T000000Z
SUMMARY:ArachnoBROADia!
DESCRIPTION:
 Join us for a night of frightening fun for all 
 ages as the Broad MSU celebrates East Lansing's 
 Great Pumpkin Walk! Try your hand at some 
 ghoulish games, make halloween-themed crafts, 
 and sink your fangs into scary snacks. Plus, 
 learn more about your favorite creepy crawly 
 creatures with our friends from MSU's Bug House!\n\n
 Price: free\n
 Sponsor: public\n
 Contact name: Broad MSU\n
 Contact phone: (517) 884-4800\n
 Contact email: eebam@msu.edu\n
 for more info visit the web at:\n 
 http://broadmuseum.msu.edu\n
LOCATION:Eli and Edythe Broad Art Museum at Michigan State University
END:VEVENT
END:VCALENDAR
