BEGIN:VCALENDAR
VERSION:2.0
METHOD:PUBLISH
PRODID:-//Virginia Tech//VT Calendar//EN
BEGIN:VEVENT
DTSTAMP:20161013T161000Z
UID:1475520500018@events.msu.edu
CATEGORIES:Public Programs
DTSTART:20161013T161000Z
DTEND:20161013T165000Z
SUMMARY:Beal Garden Tour: Plants and Animals; A Study in Cooperation 
DESCRIPTION:
  Tours begin near the pond, in the Southeast corner 
 of the Beal Garden.\n
 \n
 Join Beal Botanical 
 Garden assistant curator Peter Carrington 
 in a tour of the W. J. Beal Botanical Garden 
 to look how plants and animals have developed 
 complex strategies to ensure the survival of 
 the ecosystem. We will look at plant strategies 
 and tricks that influence animals to help 
 them out. We will meet at the pond by the shed 
 at the southeast corner of the Botanical 
 Garden. Time: 12:10-12:50 If there is serious 
 weather, we will meet in the Main Library's 
 Reference Instruction Room (1st floor). \n\n
 Price: free\n
 Sponsor: Administration\n
 Sponsor's Homepage: http://www.lib.msu.edu\n
 Contact name: Holly Flynn\n
 Contact phone: 517-884-0901\n
 Contact email: flynnhol@msu.edu\n
 for more info visit the web at:\n 
 https://www.lib.msu.edu/node/4653/\n
LOCATION:MSU Beal Botanical Garden
END:VEVENT
END:VCALENDAR
