BEGIN:VCALENDAR
VERSION:2.0
METHOD:PUBLISH
PRODID:-//Virginia Tech//VT Calendar//EN
BEGIN:VEVENT
DTSTAMP:20170123T220000Z
UID:1480518005948@events.msu.edu
CATEGORIES:Public Programs
DTSTART:20170123T220000Z
DTEND:20170123T230000Z
SUMMARY:French for Preschoolers
DESCRIPTION:
 Our preschooler programs are open to children 
 ages 3-6 and introduce children to the target 
 language and culture in a playful way. By speaking 
 in the target language throughout the 
 entire class, the children are immersed in the 
 language and become familiarized with the sounds 
 of the language while learning to say simple 
 phrases. The focus of the class is on listening 
 and speaking, supported by visual cues.\n
 \n
 Multiple-program/child 
 discounts are available 
 (10%). To qualify, registrations must 
 be on the same transaction. Classes will be 
 cancelled if fewer than 5 students enroll. All 
 classes meet in Wells Hall.\n
 \n
 French meets 
 on Mondays from 5-6 pm, starting January 23 
 and running for 10 weeks through April 17, 2017. 
 There will be no class meetings during MSU's 
 Spring Break (March 6-10) and area schools' 
 Spring Breaks (March 27 - April 7).\n\n
 Sponsor: public\n
 Contact name: CeLTA Language School\n
 Contact phone: (517) 355-7587\n
 Contact email: cls@celta.msu.edu\n
 for more info visit the web at:\n 
 https://camps.cal.msu.edu/groups/view/CLS\n
LOCATION:135 Wells Hall
END:VEVENT
END:VCALENDAR
