BEGIN:VCALENDAR
VERSION:2.0
METHOD:PUBLISH
PRODID:-//Virginia Tech//VT Calendar//EN
BEGIN:VEVENT
DTSTAMP:20170506T140000Z
UID:1482265314220@events.msu.edu
CATEGORIES:Public Programs
DTSTART:20170506T140000Z
DTEND:20170506T160000Z
SUMMARY:Spartan Young Astronomers Club
DESCRIPTION:
 The Spartan Young Astronomer Club (SYAC) is for 
 kids ages 8-12 who are curious and love learning 
 about astronomy! These budding young astronomers 
 will explore the wonders of the universe. 
 Each month, SYAC members will have opportunities 
 to explore a theme in astronomy through 
 demonstrations, planetarium presentations, 
 and hands-on activities. Please note that 
 it is required an adult accompanies the children.\n\n
 Price: $3 per child\n
 Sponsor: public\n
 Contact name: Abrams Planetarium\n
 Contact email: abrams@pa.msu.edu\n
 for more info visit the web at:\n 
 http://www.abramsplanetarium.org\n
LOCATION:Abrams Planetarium
END:VEVENT
END:VCALENDAR
