BEGIN:VCALENDAR
VERSION:2.0
METHOD:PUBLISH
PRODID:-//Virginia Tech//VT Calendar//EN
BEGIN:VEVENT
DTSTAMP:20170503T040000Z
UID:1483024056529-0003@events.msu.edu
CATEGORIES:Student Events
DTSTART;VALUE=DATE:20170503
DTEND;VALUE=DATE:20170504
SUMMARY:MSU Final Exams
DESCRIPTION:
  Sponsor: Administration\n
 Sponsor's Homepage: http://naturalscience.msu.edu/\n
 for more info visit the web at:\n 
 http://www.reg.msu.edu/ROInfo/Calendar/Academic.asp\n
END:VEVENT
END:VCALENDAR
