BEGIN:VCALENDAR
VERSION:2.0
METHOD:PUBLISH
PRODID:-//Virginia Tech//VT Calendar//EN
BEGIN:VEVENT
DTSTAMP:20170331T154500Z
UID:1483025399831@events.msu.edu
CATEGORIES:Conferences / Seminars / Lectures
DTSTART:20170331T154500Z
DTEND:20170401T045900Z
SUMMARY:Ecology, Evolutionary Biology and Behavior Seminar
DESCRIPTION:
 Seminar hosted by MSU's Ecology, Evolutionary 
 Biology and Behavior Program. \n
 \n
 Presenter name 
 and topic in the more info link.\n\n
 Price: free\n
 Sponsor: EEBB Program\n
 Sponsor's Homepage: http://eebb.msu.edu/\n
 Contact name: EEBB Office\n
 Contact phone: (517) 432-1359\n
 Contact email: eebb@msu.edu\n
 for more info visit the web at:\n 
 https://eebb.msu.edu/seminars2015.php\n
LOCATION:237 Stack, Kellogg Biological Station
END:VEVENT
END:VCALENDAR
