BEGIN:VCALENDAR
VERSION:2.0
METHOD:PUBLISH
PRODID:-//Virginia Tech//VT Calendar//EN
BEGIN:VEVENT
DTSTAMP:20170112T211000Z
UID:1483539851907-0001@events.msu.edu
CATEGORIES:Conferences / Seminars / Lectures
DTSTART:20170112T211000Z
DTEND:20170113T045900Z
SUMMARY:P-A Colloquium
DESCRIPTION:
 Colloquia are presented at 4:10 pm on Thursdays\n
 in 
 1415 Biomedical & Physical Sciences Building.\n
 \n
 Refreshments 
 are served at 3:30 pm 
 in 1400 Biomedical & Physical Sciences Bldg.\n\n
 Price: free\n
 Sponsor: Physics and Astronomy\n
 Sponsor's Homepage: http://www.pa.msu.edu/\n
 Contact name: Shawna Prater\n
 Contact phone: 517-884-5601\n
 Contact email: prater@pa.msu.edu\n
 for more info visit the web at:\n 
 http://www.pa.msu.edu/seminars/colloquium_2016_Fall/schedule\n
LOCATION:1415 Biomedical & Physical Sciences Bldg
END:VEVENT
END:VCALENDAR
