BEGIN:VCALENDAR
VERSION:2.0
METHOD:PUBLISH
PRODID:-//Virginia Tech//VT Calendar//EN
BEGIN:VEVENT
DTSTAMP:20170115T223000Z
UID:1483970246362@events.msu.edu
CATEGORIES:Student Events
DTSTART:20170115T223000Z
DTEND:20170116T045900Z
SUMMARY:American Red Cross Club meeting
DESCRIPTION:
 Need some volunteer hours? A great way to kick 
 off the semester is to attend the meeting and 
 help put together kits. Don't forget!  Awards 
 are given at the end of the semester for hours 
 earned.\n\n
 Price: free\n
 Sponsor: American Red Cross Club\n
 Sponsor's Homepage: https://msu.edu/~redcross/meetings.html\n
 Contact name: Kelly Valentini\n
 Contact email: Valen104@msu.edu\n
 for more info visit the web at:\n 
 https://www.facebook.com/groups/2203783584/\n
LOCATION:108 Bessey Hall
END:VEVENT
END:VCALENDAR
