BEGIN:VCALENDAR
VERSION:2.0
METHOD:PUBLISH
PRODID:-//Virginia Tech//VT Calendar//EN
BEGIN:VEVENT
DTSTAMP:20170218T180000Z
UID:1483983637789@events.msu.edu
CATEGORIES:Public Programs
DTSTART:20170218T180000Z
DTEND:20170218T200000Z
SUMMARY:Evergreen Haiku Study Group
DESCRIPTION:
 with Michele Root-Bernstein and special guest, 
 Lee Gurga\n\n
 Price: free\n
 Sponsor: Administration\n
 Sponsor's Homepage: http://poetry.rcah.msu.edu/\n
 Contact name: Laurie Hollinger\n
 Contact phone: 5178841932\n
 Contact email: cpoetry@msu.edu\n
LOCATION:Snyder Hall C301
END:VEVENT
END:VCALENDAR
