BEGIN:VCALENDAR
VERSION:2.0
METHOD:PUBLISH
PRODID:-//Virginia Tech//VT Calendar//EN
BEGIN:VEVENT
DTSTAMP:20170214T130000Z
UID:1484362309682@events.msu.edu
CATEGORIES:Student Events
DTSTART:20170214T130000Z
DTEND:20170214T200000Z
SUMMARY:Peru Medical Elective Bake Sale
DESCRIPTION:
 Bake sale selling baked goods to raise funds for 
 supplies and medicine for the Peru elective 
 trip.\n\n
 Price: various\n
 Sponsor: student\n
 Contact name: Victoria Balogh\n
 Contact phone: 5869941393\n
 Contact email: baloghvi@msu.edu\n
LOCATION:Outside of KRC
END:VEVENT
END:VCALENDAR
