BEGIN:VCALENDAR
VERSION:2.0
METHOD:PUBLISH
PRODID:-//Virginia Tech//VT Calendar//EN
BEGIN:VEVENT
DTSTAMP:20170127T050000Z
UID:1484745391549-0010@events.msu.edu
CATEGORIES:Special Events
DTSTART;VALUE=DATE:20170127
DTEND;VALUE=DATE:20170128
SUMMARY:Sibs and Kids registration
DESCRIPTION:
 Have your family and friends join you on campus 
 for a weekend filled with FREE events and activities 
 for all ages! Sibs and Kids weekend 
 will have activities like life size games, open 
 gym, open swim, visits to the planetrium, 
 movies, crafts, a family fued game night, a 
 performance from magican and comedian Joel Ward 
 and so much more!\n
 \n
 Register at the MSU Union 
 on the 2nd floor concourse area from 4-7 
 p.m. on Friday, February 3! Shirts and meal 
 tickets will be sold on site while supplies last. 
 For registrations WITHOUT meal ticket or 
 shirt purchases, register online at uabevents.com/lilsibs 
 by February 1.\n
 \n
 Check out uabevents.com 
 for event information, registration, 
 and updates!\n\n
 Price: FREE\n
 Sponsor: UAB\n
 Sponsor's Homepage: http://www.uabevents.com\n
 Contact name: University Activities Board\n
 Contact phone: 355-3354\n
 Contact email: uab@rhs.msu.edu\n
 for more info visit the web at:\n 
 http://uabevents.com\n
LOCATION:uabevents.com
END:VEVENT
END:VCALENDAR
