BEGIN:VCALENDAR
VERSION:2.0
METHOD:PUBLISH
PRODID:-//Virginia Tech//VT Calendar//EN
BEGIN:VEVENT
DTSTAMP:20170224T000000Z
UID:1485448332381@events.msu.edu
CATEGORIES:Movie / Film
DTSTART:20170224T000000Z
DTEND:20170224T045900Z
SUMMARY:MSU Film Collective: Crow's Egg
DESCRIPTION:
 M. Manikandan's 2014 film "Crow's Egg,"Presented 
 by Amrutha Kunapull\n
 \n
 This Tamil film is 
 centered on two boys from the slums of Chennai 
 as they try to satisfy a yearning so familiar 
 in the West - they want to eat pizza. The 
 narrative follows the young protagonists as they 
 make their way through the network of desire 
 and the resultant challenges.\n\n
 Price: free\n
 Sponsor: public\n
 Contact name: Peter Johnston\n
 Contact email: john2950@msu.edu\n
 for more info visit the web at:\n 
 http://filmstudies.cal.msu.edu/filmcollective\n
LOCATION:B122 Wells Hall
END:VEVENT
END:VCALENDAR
