BEGIN:VCALENDAR
VERSION:2.0
METHOD:PUBLISH
PRODID:-//Virginia Tech//VT Calendar//EN
BEGIN:VEVENT
DTSTAMP:20170220T022000Z
UID:1486406260499-0003@events.msu.edu
CATEGORIES:Special Events
DTSTART:20170220T022000Z
DTEND:20170220T045900Z
SUMMARY:Campus Center Cinemas - 'Fantastic Beasts and Where to Find Them'
DESCRIPTION:
 <iframe width="560" height="316" src="https://www.youtube.com/embed/ViuDsy7yb8M" 
 frameborder="0" 
 allowfullscreen></iframe>\n\n
 Price: All student and guest admissions are FREE!\n
 Sponsor: University Activities Board (UAB) and the Residence 
 Halls Assoc.\n
 Sponsor's Homepage: http://www.uabevents.com\n
 Contact name: University Activities Board\n
 Contact phone: 355-3354\n
 Contact email: uab@rhs.msu.edu\n
 for more info visit the web at:\n 
 http://uabevents.com\n
LOCATION:B Wing, Wells Hall
END:VEVENT
END:VCALENDAR
