BEGIN:VCALENDAR
VERSION:2.0
METHOD:PUBLISH
PRODID:-//Virginia Tech//VT Calendar//EN
BEGIN:VEVENT
DTSTAMP:20170329T230000Z
UID:1488574417902@events.msu.edu
CATEGORIES:Exhibits (Museum, Gardens, ...)
DTSTART:20170329T230000Z
DTEND:20170330T045900Z
SUMMARY:MFA Public Talks
DESCRIPTION:
 Doors open at 6 p.m.; talks begin at 6:30 p.m., 
 Alan and Rebecca Ross Education Wing\n
 Join 
 Michigan State University Department of Art, 
 Art History and Design third-year graduate students 
 Ladan Bahmani, Elyse Gambino, Kristen 
 Franyutti, Jordan Smith and Chelsea Young as 
 they discuss their work included in the 2017 
 Master of Fine Arts Exhibition, on view from 
 March 18-April 2, 2017. Q & A to follow with 
 assistant curator Carla Acevedo-Yates moderating 
 the discussion.\n\n
 Price: free\n
 Sponsor: public\n
 Contact name: Broad MSU\n
 Contact phone: (517) 884-4800\n
 Contact email: eebam@msu.edu\n
 for more info visit the web at:\n 
 http://broadmuseum.msu.edu\n
LOCATION:Eli and Edythe Broad Art Museum
END:VEVENT
END:VCALENDAR
