BEGIN:VCALENDAR
VERSION:2.0
METHOD:PUBLISH
PRODID:-//Virginia Tech//VT Calendar//EN
BEGIN:VEVENT
DTSTAMP:20170731T123000Z
UID:1489590962504@events.msu.edu
CATEGORIES:Public Programs
DTSTART:20170731T123000Z
DTEND:20170731T200000Z
SUMMARY:Spanish Summer Camp_Session B
DESCRIPTION:
 This one-week camp (M-F, 8:30-4 or morning only) 
 introduces children to the Spanish language 
 and culture. The program is open to children 
 ages 6-12 and no knowledge of Spanish is necessary. 
 Children of higher proficiency levels 
 can be accommodated. Register online at https://camps.cal.msu.edu\n
 *Note: 
 We are offering 
 two Spanish camps this summer. Topics covered 
 in both camps are different. Students can 
 register for either or both camps. \n\n
 Sponsor: public\n
 Contact name: CeLTA Language School\n
 Contact phone: 517-355-7587\n
 Contact email: cls@celta.msu.edu\n
 for more info visit the web at:\n 
 http://camps.cal.msu.edu\n
LOCATION:Wells Hall
END:VEVENT
END:VCALENDAR
