BEGIN:VCALENDAR
VERSION:2.0
METHOD:PUBLISH
PRODID:-//Virginia Tech//VT Calendar//EN
BEGIN:VEVENT
DTSTAMP:20170425T201000Z
UID:1490298254124@events.msu.edu
CATEGORIES:Conferences / Seminars / Lectures
DTSTART:20170425T201000Z
DTEND:20170425T211000Z
SUMMARY:Dow/Karabatsos Chemistry Department Lectureship
DESCRIPTION:
 Professor Harry Gray of the California Institute 
 of Technology will present a lecture titled 
 "The Currents of Life: Electron Flow through 
 Proteins." Hosted by Professor Jim McCusker.\n\n
 Price: free\n
 Sponsor: Chemistry\n
 Sponsor's Homepage: http://www.chemistry.msu.edu/\n
 Contact name: Sarah Quraishi\n
 Contact phone: 517-353-1082\n
 Contact email: quraish3@msu.edu\n
LOCATION:136 Chemistry Bldg.
END:VEVENT
END:VCALENDAR
