BEGIN:VCALENDAR
VERSION:2.0
METHOD:PUBLISH
PRODID:-//Virginia Tech//VT Calendar//EN
BEGIN:VEVENT
DTSTAMP:20170331T170000Z
UID:1490993596405-0006@events.msu.edu
CATEGORIES:Exhibits (Museum, Gardens, ...)
DTSTART:20170331T170000Z
DTEND:20170331T200000Z
SUMMARY:Through a Black Lens: Detroit 1967
DESCRIPTION:
 From March 24 through April 14, 2017, visit the 
 RCAH LookOut! Art Gallery for Through a Black 
 Lens: Detroit 1967.\n
 \n
 The RCAH LookOut! Art 
 Gallery is open Monday through Friday from 
 noon to 3 p.m. and is always free. All visitors 
 are welcome! \n
 \n
 Don't miss the panel discussion 
 and reception at 4:30 p.m. on Thursday, 
 April 6 in the LookOut! Art Gallery!\n
 \n
 About\n
 Through 
 a Black Lens: Detroit 1967 is an 
 exhibition of African-American photojournalism 
 and Detroit's 1967 urban upheaval in photographs, 
 videos, and other eyewitness accounts.\n\n
 Price: free\n
 Sponsor: Administration\n
 Sponsor's Homepage: http://rcah.msu.edu\n
 for more info visit the web at:\n 
 http://www.rcah.msu.edu/news-events/events/through-black-lens-detroit-1967\n
LOCATION:LookOut! Art Gallery, second-floor Snyder Phillips
END:VEVENT
END:VCALENDAR
