BEGIN:VCALENDAR
VERSION:2.0
METHOD:PUBLISH
PRODID:-//Virginia Tech//VT Calendar//EN
BEGIN:VEVENT
DTSTAMP:20170406T230000Z
UID:1491240323325-0001@events.msu.edu
CATEGORIES:Student Events
DTSTART:20170406T230000Z
DTEND:20170407T045900Z
SUMMARY:The Globe International Silent Film Festival
DESCRIPTION:
 Multiple short silent films will be screened throughout 
 the weekend evenings during CCC. Stop 
 in and see some excellent projects by filmmakers 
 from countries all around the world. The 
 ending ceremony will be Sunday in B115 Wells 
 from 8:00pm - 10:00pm.\n
 Free for all MSU students 
 plus one guest. All must show ID.\n\n
 Price: FREE\n
 Sponsor: UAB\n
 Sponsor's Homepage: http://www.uabevents.com\n
 Contact name: University Activities Board\n
 Contact phone: 355-3354\n
 Contact email: uab@rhs.msu.edu\n
 for more info visit the web at:\n 
 http://uabevents.com\n
LOCATION:B Wing, Wells Hall
END:VEVENT
END:VCALENDAR
