BEGIN:VCALENDAR
VERSION:2.0
METHOD:PUBLISH
PRODID:-//Virginia Tech//VT Calendar//EN
BEGIN:VEVENT
DTSTAMP:20170413T170000Z
UID:1491920966460@events.msu.edu
CATEGORIES:Conferences / Seminars / Lectures
DTSTART:20170413T170000Z
DTEND:20170413T190000Z
SUMMARY:Quilt Workshop
DESCRIPTION:
 Assistant Professor Joni Starr will facilitate 
 a quilting workshop with Juana Alicia Ruiz Hernandez, 
 Mujeres Tejiendo Suenos y Sabores de 
 Paz\n\n
 Price: Free\n
 Sponsor: MSU Center for Latin American and Caribbean Studies\n
 Sponsor's Homepage: http://latinamerica.isp.msu.edu\n
 Contact name: Emily Holley\n
 Contact phone: 517-353-1690\n
 Contact email: holleyem@msu.edu\n
 for more info visit the web at:\n 
 http://latinamerica.isp.msu.edu/events/peace-colombia-symposium/\n
LOCATION:Spartan Rooms B & C, International Center
END:VEVENT
END:VCALENDAR
