BEGIN:VCALENDAR
VERSION:2.0
METHOD:PUBLISH
PRODID:-//Virginia Tech//VT Calendar//EN
BEGIN:VEVENT
DTSTAMP:20170701T150000Z
UID:1495649881655@events.msu.edu
CATEGORIES:Public Programs
DTSTART:20170701T150000Z
DTEND:20170701T190000Z
SUMMARY:Family Day: Fantasy, presented by Farm Bureau Insurance
DESCRIPTION:
 Are you a daydreamer? Share the fantastic ideas 
 your mind can create as we embark on a journey 
 into your imagination! Family Day is always 
 free and open the public.\n
 \n\n
 Price: free\n
 Sponsor: public\n
 Contact name: MSU Broad\n
 Contact phone: (517) 884-4800\n
 Contact email: eebam@msu.edu\n
 for more info visit the web at:\n 
 http://broadmuseum.msu.edu\n
LOCATION:Eli and Edythe Broad Art Museum
END:VEVENT
END:VCALENDAR
