BEGIN:VCALENDAR
VERSION:2.0
METHOD:PUBLISH
PRODID:-//Virginia Tech//VT Calendar//EN
BEGIN:VEVENT
DTSTAMP:20171213T050000Z
UID:1499788578023-0003@events.msu.edu
CATEGORIES:Academic
DTSTART;VALUE=DATE:20171213
DTEND;VALUE=DATE:20171214
SUMMARY:Final Exams
DESCRIPTION:
 Fall 2017 Final Exams\n
 \n
 12/11/17-12/15/17\n\n
 Price: free\n
 Sponsor: Administration\n
 Sponsor's Homepage: https://reg.msu.edu/ROInfo/Calendar/Academic.aspx\n
END:VEVENT
END:VCALENDAR
