BEGIN:VCALENDAR
VERSION:2.0
METHOD:PUBLISH
PRODID:-//Virginia Tech//VT Calendar//EN
BEGIN:VEVENT
DTSTAMP:20170731T130000Z
UID:1500999419166@events.msu.edu
CATEGORIES:Conferences / Seminars / Lectures
DTSTART:20170731T130000Z
DTEND:20170801T035900Z
SUMMARY:Assessing Ecosystem-Based Management in the Great Lakes Basin
DESCRIPTION:
 Date: Monday, July 31, 9 a.m.\n
 Location: Room 
 105 Manly Miles\n
 Speaker: Amanda G. Guthrie, 
 master of science degree candidate, Department 
 of Fisheries and Wildlife\n
 Host: Department 
 of Fisheries and Wildlife\n
 Contact: Major Advisor 
 Dr. William Taylor\n\n
 Price: free\n
 Sponsor: Administration\n
 Sponsor's Homepage: http://naturalscience.msu.edu/\n
 for more info visit the web at:\n 
 http://www.espp.msu.edu/events/calendar/index.php\n
END:VEVENT
END:VCALENDAR
