BEGIN:VCALENDAR
VERSION:2.0
METHOD:PUBLISH
PRODID:-//Virginia Tech//VT Calendar//EN
BEGIN:VEVENT
DTSTAMP:20170807T210000Z
UID:1501696288863@events.msu.edu
CATEGORIES:Student Events
DTSTART:20170807T210000Z
DTEND:20170807T220000Z
SUMMARY:Student Osteopathic Medical Association E-board Meeting
DESCRIPTION:
  Contact name: Veronica Lee\n
 Contact phone: 4123909277\n
 Contact email: leeveron@msu.edu\n
LOCATION:C102 E. Fee (Patenge Conference Room)
END:VEVENT
END:VCALENDAR
