BEGIN:VCALENDAR
VERSION:2.0
METHOD:PUBLISH
PRODID:-//Virginia Tech//VT Calendar//EN
BEGIN:VEVENT
DTSTAMP:20171015T000000Z
UID:1501880300075@events.msu.edu
CATEGORIES:Performing Arts (Dance, Music, Theatre,  ...)
DTSTART:20171015T000000Z
DTEND:20171015T035900Z
SUMMARY:THE GREAT GATSBY
DESCRIPTION:
 F. Scott Fitzgerald's\n
 The Great Gatsby\n
 \n
 Adapted 
 for the stage by Simon Levy\n
 \n
 Directed 
 by Deric McNish\n
 \n
 In the extravagance and decadence 
 of the roaring twenties, when thoughtless 
 millionaires ruled with impunity, the mysterious 
 Gatsby describes Daisy, his one obsession: 
 "Her voice is full of money." Passion 
 and greed infect the American dream in this adaptation, 
 where F. Scott Fitzgerald's voice 
 remains fresh as we watch the rich escape consequences 
 and the power of money to corrupt.\n
 \n
 PASANT 
 THEATRE\n
 \n
 Tickets are available from 
 the Wharton Center Box Office, 1.800.WHARTON, 
 whartoncenter.com\n\n
 Price: General Admission $17; Seniors and Faculty $15; 
 Students $12\n
 Sponsor: Department of Theatre\n
 Sponsor's Homepage: http://theatre.msu.edu/\n
 for more info visit the web at:\n 
 http://theatre.msu.edu/productions/past-seasons/20172018season/great-gatsby\n
LOCATION:Pasant Theatre
END:VEVENT
END:VCALENDAR
