BEGIN:VCALENDAR
VERSION:2.0
METHOD:PUBLISH
PRODID:-//Virginia Tech//VT Calendar//EN
BEGIN:VEVENT
DTSTAMP:20180225T010000Z
UID:1502396630961@events.msu.edu
CATEGORIES:Performing Arts (Dance, Music, Theatre,  ...)
DTSTART:20180225T010000Z
DTEND:20180225T045900Z
SUMMARY:THUS WITH A KISS I DIE
DESCRIPTION:
 Thus With A Kiss I Die\n
 \n
 Conceived and directed 
 by Rob Roznowski\n
 \n
 \n
 This immersive theatre 
 piece follows the days and hours leading up 
 to a murder that takes place during a performance 
 of "Romeo and Juliet" at a small southern 
 university. The audience seeks clues to identify 
 the victim and murderer as they follow 
 the numerous characters through the nooks and 
 crannies of the Auditorium. Each audience 
 member's experience is unique in this experimental 
 piece that diverges from traditional theatrical 
 forms.\n
 \n
 MSU AUDITORIUM\n
 \n
 Sat., Feb. 
 24, 2018 at 8:00 p.m.\n
 Sun., Feb. 25, 2018 
 at 2:00 p.m.\n
 \n\n
 Price: free\n
 Sponsor: Department of Theatre\n
 Sponsor's Homepage: http://theatre.msu.edu/\n
 Contact name: Brian de Vries\n
 Contact phone: 517-355-6690\n
 Contact email: devri124@msu.edu\n
 for more info visit the web at:\n 
 http://http://theatre.msu.edu/productions/past-seasons/20172018season/kiss-die\n
LOCATION:MSU Auditorium
END:VEVENT
END:VCALENDAR
