BEGIN:VCALENDAR
VERSION:2.0
METHOD:PUBLISH
PRODID:-//Virginia Tech//VT Calendar//EN
BEGIN:VEVENT
DTSTAMP:20170928T230000Z
UID:1502804702012@events.msu.edu
CATEGORIES:Conferences / Seminars / Lectures
DTSTART:20170928T230000Z
DTEND:20170929T010000Z
SUMMARY:American. Muslim.
DESCRIPTION:
 "American. Muslim." highlights stories of two 
 prominent American Muslims.\n
 \n
 	Talat Hamdani 
 is the mother of a 9/11 hero named M. Salman 
 Hamdani, who ran toward the Twin Towers to save 
 lives.\n
 \n
 	Richard "Mac" McKinney is a longtime 
 US veteran. He went from hating Muslims 
 to becoming president of his local mosque.\n
 \n
 	Q 
 & A will follow presentations.\n\n
 Price: Free\n
 Sponsor: Muslim Studies Program\n
 Sponsor's Homepage: http://muslimstudies.isp.msu.edu/\n
 Contact name: Mohammad Khalil\n
 Contact phone: 5178846636\n
 Contact email: khalilmo@msu.edu\n
LOCATION:115 International Center
END:VEVENT
END:VCALENDAR
