BEGIN:VCALENDAR
VERSION:2.0
METHOD:PUBLISH
PRODID:-//Virginia Tech//VT Calendar//EN
BEGIN:VEVENT
DTSTAMP:20171014T120000Z
UID:1503021872360@events.msu.edu
CATEGORIES:Conferences / Seminars / Lectures
DTSTART:20171014T120000Z
DTEND:20171014T210000Z
SUMMARY:Michigan Mud: Expanding Community 
DESCRIPTION:
 Michigan Mud: Expanding Community is brought to 
 you in collaboration with Michigan Ceramic 
 Art Association (MCAA) and Albion College. This 
 day long biennial conference will be held 
 on the Albion College campus and will showcase 
 the excellence of ceramic art in its diversity 
 of techniques. This community event is open 
 to the public and features nationally-renowned 
 ceramics artists providing demonstrations 
 and lectures, a student cup show, vendor tables, 
 and presenter's exhibition to benefit MCAA 
 student scholarships.\n\n
 Price: Students: $30\n
 Sponsor: public\n
 Contact name: Erin Adair-Guy\n
 Contact email: eguy@michclay.com\n
 for more info visit the web at:\n 
 https://michclay.com/michigan-mud-2017/\n
LOCATION:Albion College, Albion MI 
END:VEVENT
END:VCALENDAR
